Workbook

Sheet Certificaat
A1: Tournament Report Form | J1: IT3
A3: Federation | D3: Code and Name of Tournament
A4: =IF(ISBLANK(Invulformulier!$B$1),"",Invulformulier!$B$1) | D4: =IF(ISBLANK(Invulformulier!$B$2),"",Invulformulier!$B$2) | E4: =IF(ISBLANK(Invulformulier!$B$3),"",Invulformulier!$B$3)
A5: Country and Place of Tournament | E5: Starting date | H5: Ending date
A6: =IF(ISBLANK(Invulformulier!$B$4),"",Invulformulier!$B$4) | B6: =IF(ISBLANK(Invulformulier!$B$5),"",Invulformulier!$B$5) | E6: =IF(ISBLANK(Invulformulier!$B$6),"",Invulformulier!$B$6) | H6: =IF(ISBLANK(Invulformulier!$B$7),"",Invulformulier!$B$7)
A7: Organizer of the Tournament
A8: =IF(ISBLANK(Invulformulier!$B$8),"",Invulformulier!$B$8) | C8: =IF(ISBLANK(Invulformulier!$B$9),"",Invulformulier!$B$9)
B9: Contact Information (E-mail) of the person responsible for information
B10: =IF(ISBLANK(Invulformulier!$B$10),"/",Invulformulier!$B$10) -> /
A11: Number of Rounds | C11: Schedule (number of rounds/day) | G11: Rate(s) of play
A12: =IF(ISBLANK(Invulformulier!$B$11),"",Invulformulier!$B$11) | C12: =IF(ISBLANK(Invulformulier!$B$12),"",Invulformulier!$B$12) | G12: =IF(ISBLANK(Invulformulier!$B$13),"",Invulformulier!$B$13)
A13: Tournament Type | D13: Pairing system
A14: =IF(ISBLANK(Invulformulier!$B$14),"",Invulformulier!$B$14) | D14: Swiss System Tournament | G14: =CONCATENATE(IF(ISBLANK(Invulformulier!$B$17),"/",Invulformulier!$B$17)," - ",IF(ISBLANK(Invulformulier!$B$18),"/",Invulformulier!$B$18)) -> / - /
A15: =IF(ISBLANK(Invulformulier!$B$15),"",Invulformulier!$B$15) | D15: Manual | F15: =IF(ISBLANK(Invulformulier!$B$19),"/",Invulformulier!$B$19) -> / | G15: Person responsible | I15: =IF(ISBLANK(Invulformulier!$B$20),"/",Invulformulier!$B$20) -> /
A16: =IF(ISBLANK(Invulformulier!$B$16),"",Invulformulier!$B$16) | D16: Computerized | F16: =IF(ISBLANK(Invulformulier!$B$21),"/",Invulformulier!$B$21) -> X | G16: Program used | I16: =IF(ISBLANK(Invulformulier!$B$22),"/",Invulformulier!$B$22) -> /
A17: Special Remarks (exceptions in pairing, restart option, …)
A18: =IF(ISBLANK(Invulformulier!$B$23),"",Invulformulier!$B$23)
A19: =IF(ISBLANK(Invulformulier!$B$24),"",Invulformulier!$B$24)
A20: =IF(ISBLANK(Invulformulier!$B$25),"",Invulformulier!$B$25)
A21: =IF(ISBLANK(Invulformulier!$B$26),"",Invulformulier!$B$26)
A22: Type | B22: Number | C22: Number of feds | D22: host fed players | E22: other fed players | F22: Type | G22: Number | H22: number of feds | I22: host fed players | J22: other fed players
A23: Rated | B23: =Invulformulier!$B$27 -> 0 | C23: =Invulformulier!$B$28 -> 0 | D23: =Invulformulier!$B$29 -> 0 | E23: =Invulformulier!$B$30 -> 0 | F23: Unrated | G23: =Invulformulier!$B$43 -> 0 | H23: =Invulformulier!$B$44 -> 0 | I23: =Invulformulier!$B$45 -> 0 | J23: =Invulformulier!$B$46 -> 0
A24: GM | B24: =Invulformulier!$B$31 -> 0 | C24: =Invulformulier!$B$32 -> 0 | D24: =Invulformulier!$B$33 -> 0 | E24: =Invulformulier!$B$34 -> 0 | F24: WGM | G24: =Invulformulier!$B$47 -> 0 | H24: =Invulformulier!$B$48 -> 0 | I24: =Invulformulier!$B$49 -> 0 | J24: =Invulformulier!$B$50 -> 0
A25: IM | B25: =Invulformulier!$B$35 -> 0 | C25: =Invulformulier!$B$36 -> 0 | D25: =Invulformulier!$B$37 -> 0 | E25: =Invulformulier!$B$38 -> 0 | F25: WIM | G25: =Invulformulier!$B$51 -> 0 | H25: =Invulformulier!$B$52 -> 0 | I25: =Invulformulier!$B$53 -> 0 | J25: =Invulformulier!$B$54 -> 0
A26: FM | B26: =Invulformulier!$B$39 -> 0 | C26: =Invulformulier!$B$40 -> 0 | D26: =Invulformulier!$B$41 -> 0 | E26: =Invulformulier!$B$42 -> 0 | F26: WFM | G26: =Invulformulier!$B$55 -> 0 | H26: =Invulformulier!$B$56 -> 0 | I26: =Invulformulier!$B$57 -> 0 | J26: =Invulformulier!$B$58 -> 0
A27: Chief Arbiter and contact information for Chief Arbiter (E-mail)
A28: =IF(ISBLANK(Invulformulier!$B$59),"",Invulformulier!$B$59) | C28: =IF(ISBLANK(Invulformulier!$B$60),"",Invulformulier!$B$60)
B29: E-mail
B30: =IF(ISBLANK(Invulformulier!$B$61),"/",Invulformulier!$B$61) -> /
A31: 1st Deputy Chief Arbiter
A32: =IF(ISBLANK(Invulformulier!$B$62),"",Invulformulier!$B$62) | C32: =IF(ISBLANK(Invulformulier!$B$63),"",Invulformulier!$B$63)
A33: 2nd Deputy Chief Arbiter
A34: =IF(ISBLANK(Invulformulier!$B$64),"",Invulformulier!$B$64) | C34: =IF(ISBLANK(Invulformulier!$B$65),"",Invulformulier!$B$65)
A35: Arbiter
A36: =IF(ISBLANK(Invulformulier!$B$66),"",Invulformulier!$B$66) | C36: =IF(ISBLANK(Invulformulier!$B$67),"",Invulformulier!$B$67)
A37: Arbiter
A38: =IF(ISBLANK(Invulformulier!$B$68),"",Invulformulier!$B$68) | C38: =IF(ISBLANK(Invulformulier!$B$69),"",Invulformulier!$B$69)
A40: =CONCATENATE("The organizer must provide this report form to each arbiter who has achieved a norm, ",Invulformulier!$B$70," federation, the organizing federation and the FIDE Secretariat.") -> The organizer must provide this report form to each arbiter who has achieved a norm, federation, the organizing federation and the FIDE Secretariat.
A41: PRIVACY NOTICE: Chief Organizer's and Chief Arbiter's e-mail address is required only for institutional purposes and will be displayed on FIDE website.
A42: Please, refer to FIDE Data Protection Policy published in FIDE at https://www.fide.com/privacy.

Sheet Invulformulier
A1: Federation
A2: ID of Tournament
A3: Name of Tournament
A4: Country of Tournament
A5: Place of Tournament
A6: Starting date
A7: Ending date
A8: ID Organizer
A9: Name Organizer
A10: E-mail person organizer
A11: Number of Rounds
A12: Schedule (number of rounds/day)
... A20: Person responsible for pairings
A21: Computerized (X or blank) | B21: X
A22: Program used
A23: Special Remarks (exceptions in pairing, restart option,...) 1
A24: Special Remarks (exceptions in pairing, restart option,...) 2
A25: Special Remarks (exceptions in pairing, restart option,...) 3
A26: Special Remarks (exceptions in pairing, restart option,...) 4
A27: Number Rated
A28: Number of feds Rated
A29: host fed players Rated
A30: other fed players Rated | B30: =B27-B29 -> 0
A31: Number GM
A32: Number of feds GM
A33: host fed players GM
A34: other fed players GM | B34: =B31-B33 -> 0
A35: Number IM
A36: Number of feds IM
A37: host fed players IM
A38: other fed players IM | B38: =B35-B37 -> 0
A39: Number FM
A40: Number of feds FM
A41: host fed players FM
A42: other fed players FM | B42: =B39-B41 -> 0
A43: Number Unrated
A44: Number of feds Unrated
A45: host fed players Unrated
A46: other fed players Unrated | B46: =B43-B45 -> 0
A47: Number WGM
...
