Workbook

Sheet Indeling
A1: INTERCLUBS NATIONAUX 2026-2027
A2: NATIONALE INTERCLUBS 2026-2027
C3: (Version/versie 4: 07/09/2026)
B5: Division 1 Afdeling | H5: Division 2A Afdeling | K5: Division 2B Afdeling
A6: 1 | B6: 601 CRELEL 1 | G6: 1 | H6: 109 Borgerhout 1 | J6: 1 | K6: 501 CREC Charleroi 1
A7: 2 | B7: 231 Dolle Toren Leuven 1 | G7: 2 | H7: 472 de Mercatel 1 | J7: 2 | K7: 278 Ixelles CC 1
A8: 3 | B8: 607 KSK Rochade 1 | G8: 3 | H8: 174 Brasschaat 1 | J8: 3 | K8: 607 KSK Rochade 2
A9: 4 | B9: 621 Standard de Liège 1 | G9: 4 | H9: 401 KGSRL 2 | J9: 4 | K9: 207 2 Fous d'Etterbeek 1
A10: 5 | B10: 239 Boitsfort 1 | G10: 5 | H10: 462 Zottegem 1 | J10: 5 | K10: 901 Namur Echecs 1
A11: 6 | B11: 303 KBSK Brugge 1 | G11: 6 | H11: 261 Gambiet Opwijk 1 | J11: 6 | K11: 604 KSK47-Eynatten 1
A12: 7 | B12: 471 SDP Wachtebeke 1 | G12: 7 | H12: 301 KOSK 1 | J12: 7 | K12: 209 The Belgian CC 1
A13: 8 | B13: 432 Wetteren 1 | G13: 8 | H13: 432 Wetteren 2 | J13: 8 | K13: 114 Mechelen 1
A14: 9 | B14: 176 Rokade Westerlo 1 | G14: 9 | H14: 124 Deurne 1 | J14: 9 | K14: 952 CE Wavre 1
A15: 10 | B15: 401 KGSRL 1 | G15: 10 | H15: 244 Brussels 1 | J15: 10 | K15: 514 Monti'Chess Club 1
A16: 11 | B16: 230 Leuven Centraal 1 | G16: 11 | H16: 402 Jean Jaures Gent 1 | J16: 11 | K16: 703 Eisden/MSK-Dilsen 1
A17: 12 | B17: 166 TSM Mechelen 1 | G17: 12 | H17: 436 LSV-Chesspirant 1 | J17: 12 | K17: 226 Europchess 1
B19: Division 3A Afdeling | E19: Division 3B Afdeling | H19: Division 3C Afdeling | K19: Division 3D Afdeling
A20: 1 | B20: 109 Borgerhout 2 | D20: 1 | E20: 109 Borgerhout 3 | G20: 1 | H20: 109 Borgerhout 4 | J20: 1 | K20: 601 CRELEL 2
A21: 2 | B21: 278 Ixelles CC 2 | D21: 2 | E21: 436 LSV-Chesspirant 2 | G21: 2 | H21: 278 Ixelles CC 3 | J21: 2 | K21: 231 Dolle Toren Leuven 2
A22: 3 | B22: 401 KGSRL 3 | D22: 3 | E22: 302 KISK Ieper 1 | G22: 3 | H22: 521 Tournai 1 | J22: 3 | K22: 727 Midden Limburg 1
A23: 4 | B23: 130 Moretus 1 | D23: 4 | E23: 430 Landegem 1 | G23: 4 | H23: 541 Leuze-En-Hainaut 1 | J23: 4 | K23: 811 Arlon Echecs 1
A24: 5 | B24: 128 Beveren 1 | D24: 5 | E24: 422 MSV 1 | G24: 5 | H24: 239 Boitsfort 2 | J24: 5 | K24: 239 Boitsfort 3
A25: 6 | B25: 261 Gambiet Opwijk 2 | D25: 6 | E25: 303 KBSK Brugge 2 | G25: 6 | H25: 902 CES 1 | J25: 6 | K25: 604 KSK47-Eynatten 2
A26: 7 | B26: 425 Dendermonde 1 | D26: 7 | E26: 471 SDP Wachtebeke 2 | G26: 7 | H26: 548 Caissa Europe 1 | J26: 7 | K26: 135 Geel 1
A27: 8 | B27: 114 Mechelen 2 | D27: 8 | E27: 364 Meense Leie Schakers 1 | G27: 8 | H27: 228 Dworp 1 | J27: 8 | K27: 708 NLS Lommel 1
A28: 9 | B28: 124 Deurne 2 | D28: 9 | E28: 401 KGSRL 4 | G28: 9 | H28: 961 Braine Echecs 1 | J28: 9 | K28: 230 Leuven Centraal 2
A29: 10 | B29: 194 ChessLooks Lier 1 | D29: 10 | E29: 465 SK Artevelde 1 | G29: 10 | H29: 201 CREB Bruxelles 1 | J29: 10 | K29: 618 Royal Echiquier Mosan 1
A30: 11 | B30: 132 SK Oude God 1 | D30: 11 | E30: 313 Waregem 1 | G30: 11 | H30: 525 CELB Anderlues 1 | J30: 11 | K30: 622 Herve 1
A31: 12 | B31: 166 TSM Mechelen 2 | D31: 12 | E31: 301 KOSK 2 | G31: 12 | H31: 548 Caissa Europe 2 | J31: 12 | K31: 601 CRELEL 3
B33: Division 4A Afdeling | E33: Division 4B Afdeling | H33: Division 4C Afdeling | K33: Division 4D Afdeling
A34: 1 | B34: 601 CRELEL 4 | D34: 1 | E34: 340 Izegem 1 | G34: 1 | H34: 260 Kapelle-op-den Bos 1 | J34: 1 | K34: 501 CREC Charleroi 2
A35: 2 | B35: 727 Midden Limburg 2 | D35: 2 | E35: 472 de Mercatel 2 | G35: 2 | H35: 278 Ixelles CC 4 | J35: 2 | K35: 278 Ixelles CC 5
A36: 3 | B36: 607 KSK Rochade 3 | D36: 3 | E36: 307 Bredene 1 | G36: 3 | H36: 230 Leuven Centraal 3 | J36: 3 | K36: 901 Namur Echecs 3
A37: 4 | B37: 621 Standard de Liège 2 | D37: 4 | E37: 401 KGSRL 5 | G37: 4 | H37: 401 KGSRL 7 | J37: 4 | K37: 901 Namur Echecs 4
A38: 5 | B38: 901 Namur Echecs 2 | D38: 5 | E38: 305 KSGK 1 | G38: 5 | H38: 548 Caissa Europe 3 | J38: 5 | K38: 239 Boitsfort 4
A39: 6 | B39: 703 Eisden/MSK-Dilsen 2 | D39: 6 | E39: 303 KBSK Brugge 3 | G39: 6 | H39: 233 DZD Halle 1 | J39: 6 | K39: 902 CES 2
A40: 7 | B40: 604 KSK47-Eynatten 3 | D40: 7 | E40: 460 Oudenaarde 1 | G40: 7 | H40: 209 The Belgian CC 2 | J40: 7 | K40: 548 Caissa Europe 4
A41: 8 | B41: 810 Marche en Famenne 1 | D41: 8 | E41: 432 Wetteren 3 | G41: 8 | H41: 401 KGSRL 6 | J41: 8 | K41: 228 Dworp 2
A42: 9 | B42: 627 SF Wirtzfeld 1 | D42: 9 | E42: 304 Tielt 1 | G42: 9 | H42: 244 Brussels 2 | J42: 9 | K42: 511 EDC 1
A43: 10 | B43: 618 Royal Echiquier Mosan 2 | D43: 10 | E43: 309 KRST 1 | G43: 10 | H43: 201 CREB Bruxelles 2 | J43: 10 | K43: 514 Monti'Chess Club 2
A44: 11 | B44: 712 SV - Landen 1 | D44: 11 | E44: 301 KOSK 3 | G44: 11 | H44: 261 Gambiet Opwijk 3 | J44: 11 | K44: 525 CELB Anderlues 2
A45: 12 | B45: 609 Anthisnes 1 | D45: 12 | E45: 475 Rapid Aalter 1 | G45: 12 | H45: 226 Europchess 2 | J45: 12 | K45: 551 HCC Jurbise 1
B47: Division 4E Afdeling | E47: Division 4F Afdeling | H47: Division 4G Afdeling | K47: Division 4H Afdeling
A48: 1 | B48: 443 Boey Temse 1 | D48: 1 | E48: 340 Izegem 2 | G48: 1 | H48: 443 Boey Temse 2 | J48: 1 | K48: 601 CRELEL 5
A49: 2 | B49: 727 Midden Limburg 3 | D49: 2 | E49: 438 Deinze 1 | G49: 2 | H49: 436 LSV-Chesspirant 3 | J49: 2 | K49: 278 Ixelles CC 6
A50: 3 | B50: 174 Brasschaat 2 | D50: 3 | E50: 401 KGSRL 8 | G50: 3 | H50: 230 Leuven Centraal 5 | J50: 3 | K50: 607 KSK Rochade 4
A51: 4 | B51: 230 Leuven Centraal 4 | D51: 4 | E51: 541 Leuze-En-Hainaut 2 | G51: 4 | H51: 410 Sint-Niklaas 1 | J51: 4 | K51: 207 2 Fous d'Etterbeek 2
A52: 5 | B52: 714 Pelt 1 | D52: 5 | E52: 462 Zottegem 2 | G52: 5 | H52: 462 Zottegem 3 | J52: 5 | K52: 901 Namur Echecs 5
A53: 6 | B53: 121 Turnhout 1 | D53: 6 | E53: 303 KBSK Brugge 4 | G53: 6 | H53: 121 Turnhout 2 | J53: 6 | K53: 229 Caïssa Woluwé 1
A54: 7 | B54: 135 Geel 2 | D54: 7 | E54: 471 SDP Wachtebeke 3 | G54: 7 | H54: 471 SDP Wachtebeke 4 | J54: 7 | K54: 952 CE Wavre 2
A55: 8 | B55: 114 Mechelen 3 | D55: 8 | E55: 432 Wetteren 4 | G55: 8 | H55: 417 Pion-Aalst 1 | J55: 8 | K55: 962 CCBBE 1
A56: 9 | B56: 176 Rokade Westerlo 2 | D56: 9 | E56: 304 Tielt 2 | G56: 9 | H56: 401 KGSRL 9 | J56: 9 | K56: 230 Leuven Centraal 6
A57: 10 | B57: 194 ChessLooks Lier 2 | D57: 10 | E57: 418 VPTD Geraardsbergen 1 | G57: 10 | H57: 465 SK Artevelde 2 | J57: 10 | K57: 244 Brussels 3
A58: 11 | B58: 132 SK Oude God 2 | D58: 11 | E58: 313 Waregem 2 | G58: 11 | H58: 261 Gambiet Opwijk 4 | J58: 11 | K58: 548 Caissa Europe 5
A59: 12 | B59: 195 SKilled Chezzmates 1 | D59: 12 | E59: 460 Oudenaarde 2 | G59: 12 | H59: 166 TSM Mechelen 3 | J59: 12 | K59: 231 Dolle Toren Leuven 3
B61: Division 5A Afdeling | E61: Division 5B Afdeling | H61: Division 5C Afdeling | K61: Division 5D Afdeling
A62: 1 | B62: 601 CRELEL 6 | D62: 1 | E62: 436 LSV-Chesspirant 4 | G62: 1 | H62: 436 LSV-Chesspirant 5 | J62: 1 | K62: 601 CRELEL 7
A63: 2 | B63: 278 Ixelles CC 7 | D63: 2 | E63: 472 de Mercatel 3 | G63: 2 | H63: 472 de Mercatel 4 | J63: 2 | K63: 727 Midden Limburg 4
A64: 3 | B64: 607 KSK Rochade 5 | D64: 3 | E64: 521 Tournai 2 | G64: 3 | H64: 302 KISK Ieper 2 | J64: 3 | K64: 174 Brasschaat 3
A65: 4 | B65: 901 Namur Echecs 6 | D65: 4 | E65: 541 Leuze-En-Hainaut 3 | G65: 4 | H65: 430 Landegem 2 | J65: 4 | K65: 130 Moretus 2
A66: 5 | B66: 909 Philippeville 1 | D66: 5 | E66: 462 Zottegem 4 | G66: 5 | H66: 422 MSV 3 | J66: 5 | K66: 703 Eisden/MSK-Dilsen 3
A67: 6 | B67: 549 Saint-Ghislain 1 | D67: 6 | E67: 303 KBSK Brugge 5 | G67: 6 | H67: 303 KBSK Brugge 6 | J67: 6 | K67: 230 Leuven Centraal 8
A68: 7 | B68: 230 Leuven Centraal 7 | D68: 7 | E68: 422 MSV 2 | G68: 7 | H68: 301 KOSK 5 | J68: 7 | K68: 135 Geel 3
A69: 8 | B69: 952 CE Wavre 3 | D69: 8 | E69: 404 De 3 Torens Gent 1 | G69: 8 | H69: 301 KOSK 6 | J69: 8 | K69: 114 Mechelen 4
A70: 9 | B70: 511 EDC 2 | D70: 9 | E70: 401 KGSRL 10 | G70: 9 | H70: 304 Tielt 3 | J70: 9 | K70: 176 Rokade Westerlo 3
A71: 10 | B71: 244 Brussels 4 | D71: 10 | E71: 465 SK Artevelde 3 | G71: 10 | H71: 322 KVSK Veurne 1 | J71: 10 | K71: 162 Mol 1
A72: 11 | B72: 525 CELB Anderlues 3 | D72: 11 | E72: 402 Jean Jaures Gent 2 | G72: 11 | H72: 313 Waregem 3 | J72: 11 | K72: 132 SK Oude God 3
A73: 12 | B73: 548 Caissa Europe 6 | D73: 12 | E73: 301 KOSK 4 | G73: 12 | H73: 351 Knokke Schaak 1 | J73: 12 | K73: 166 TSM Mechelen 4
B75: Division 5E Afdeling | E75: Division 5F Afdeling | H75: Division 5G Afdeling | K75: Division 5H Afdeling
A76: 1 | B76: 601 CRELEL 8 | D76: 1 | E76: 601 CRELEL 9 | G76: 1 | H76: 260 Kapelle-op-den Bos 2 | J76: 1 | K76: 518 Soignies 1
A77: 2 | B77: 814 Gaume Etalle 1 | D77: 2 | E77: 727 Midden Limburg 5 | G77: 2 | H77: 230 Leuven Centraal 10 | J77: 2 | K77: 278 Ixelles CC 8
A78: 3 | B78: 607 KSK Rochade 6 | D78: 3 | E78: 607 KSK Rochade 7 | G78: 3 | H78: 174 Brasschaat 4 | J78: 3 | K78: 230 Leuven Centraal 11
A79: 4 | B79: 621 Standard de Liège 3 | D79: 4 | E79: 230 Leuven Centraal 9 | G79: 4 | H79: 130 Moretus 3 | J79: 4 | K79: 541 Leuze-En-Hainaut 4
A80: 5 | B80: 906 T.S.M. Ave et Auffe 1 | D80: 5 | E80: 703 Eisden/MSK-Dilsen 5 | G80: 5 | H80: 128 Beveren 2 | J80: 5 | K80: 909 Philippeville 2
A81: 6 | B81: 703 Eisden/MSK-Dilsen 4 | D81: 6 | E81: 229 Caïssa Woluwé 2 | G81: 6 | H81: 121 Turnhout 3 | J81: 6 | K81: 549 Saint-Ghislain 2
A82: 7 | B82: 604 KSK47-Eynatten 4 | D82: 7 | E82: 952 CE Wavre 4 | G82: 7 | H82: 209 The Belgian CC 3 | J82: 7 | K82: 953 Nivelles 1
A83: 8 | B83: 609 Anthisnes 2 | D83: 8 | E83: 962 CCBBE 2 | G83: 8 | H83: 114 Mechelen 5 | J83: 8 | K83: 228 Dworp 3
A84: 9 | B84: 627 SF Wirtzfeld 2 | D84: 9 | E84: 961 Braine Echecs 2 | G84: 9 | H84: 176 Rokade Westerlo 4 | J84: 9 | K84: 511 EDC 3
A85: 10 | B85: 623 Sankt Vith 1 | D85: 10 | E85: 202 Woluwe 1200 1 | G85: 10 | H85: 194 ChessLooks Lier 3 | J85: 10 | K85: 418 VPTD Geraardsbergen 2
A86: 11 | B86: 712 SV - Landen 2 | D86: 11 | E86: 712 SV - Landen 3 | G86: 11 | H86: 132 SK Oude God 4 | J86: 11 | K86: 525 CELB Anderlues 4
A87: 12 | B87: 666 Le 666 1 | D87: 12 | E87: 226 Europchess 3 | G87: 12 | H87: 166 TSM Mechelen 5 | J87: 12 | K87: 551 HCC Jurbise 2
B89: Division 5I Afdeling | E89: Division 5J Afdeling
A90: 1 | B90: 109 Borgerhout 5 | D90: 1 | E90: 260 Kapelle-op-den Bos 3
A91: 2 | B91: 401 KGSRL 12 | D91: 2 | E91: 278 Ixelles CC 9
A92: 3 | B92: 174 Brasschaat 5 | D92: 3 | E92: 174 Brasschaat 6
A93: 4 | B93: 410 Sint-Niklaas 2 | D93: 4 | E93: 207 2 Fous d'Etterbeek 3
A94: 5 | B94: 401 KGSRL 11 | D94: 5 | E94: 204 Excelsior 1
A95: 6 | B95: 128 Beveren 3 | D95: 6 | E95: 229 Caïssa Woluwé 3
A96: 7 | B96: 425 Dendermonde 2 | D96: 7 | E96: 209 The Belgian CC 4
A97: 8 | B97: 432 Wetteren 5 | D97: 8 | E97: 230 Leuven Centraal 13
A98: 9 | B98: 124 Deurne 3 | D98: 9 | E98: 244 Brussels 5
A99: 10 | B99: 230 Leuven Centraal 12 | D99: 10 | E99: 201 CREB Bruxelles 3
A100: 11 | B100: 132 SK Oude God 5 | D100: 11 | E100: 132 SK Oude God 6
A101: 12 | B101: 195 SKilled Chezzmates 2 | D101: 12 | E101: 226 Europchess 4
B103: Division 6A Afdeling | E103: Division 6B Afdeling | H103: Division 6C Afdeling | K103: Division 6D Afdeling
A104: 1 | B104: 601 CRELEL 10 | D104: 1 | E104: Bye 1 | G104: 1 | H104: 733 STSC 1 | J104: 1 | K104: 501 CREC Charleroi 3
A105: 2 | B105: 603 CREV Verviers 1 | D105: 2 | E105: 231 Dolle Toren Leuven 4 | G105: 2 | H105: 727 Midden Limburg 6 | J105: 2 | K105: Bye 2
A106: 3 | B106: 621 Standard de Liège 4 | D106: 3 | E106: 207 2 Fous d'Etterbeek 4 | G106: 3 | H106: 182 Noorderwijk 1 | J106: 3 | K106: 901 Namur Echecs 7
A107: 4 | B107: 619 Welkenraedt 1 | D107: 4 | E107: 230 Leuven Centraal 14 | G107: 4 | H107: 714 Pelt 2 | J107: 4 | K107: 901 Namur Echecs 8
A108: 5 | B108: 604 KSK47-Eynatten 5 | D108: 5 | E108: 238 Het Pientere Paard 1 | G108: 5 | H108: 121 Turnhout 4 | J108: 5 | K108: 902 CES 3
...

Sheet Wijzigingen
A1: Date | B1: Nom de l'équipe | C1: Oorspronkelijk / À l'origine | F1: Nieuw / Nouveau | I1: Commentaar
A2: Datum | B2: Ploegnaam | C2: Afdeling | D2: Reeks | E2: Paringsnr. | F2: Division | G2: Série | H2: N° d'appariement | I2: Commentaire
A3: 46252 | B3: 511 EDC 1 | C3: 4 | D3: D | E3: 12 | F3: 4 | G3: D | H3: 9 | I3: Le RTN n'a pas pris compte de la non-disponibilité de la salle de jeu du 511 EDC pour la ronde 8.
A4: 46252 | B4: 551 HCC Jurbise 1 | C4: 4 | D4: D | E4: 9 | F4: 4 | G4: D | H4: 12
A5: 46252 | B5: 511 EDC 2 | C5: 5 | D5: A | E5: 12 | F5: 5 | G5: A | H5: 9
A6: 46252 | B6: 551 HCC Jurbise 2 | C6: 5 | D6: A | E6: 9 | F6: 5 | G6: A | H6: 12
A7: 46252 | B7: 511 EDC 3 | C7: 5 | D7: H | E7: 12 | F7: 5 | G7: H | H7: 9
A8: 46252 | B8: 551 HCC Jurbise 3 | C8: 5 | D8: H | E8: 9 | F8: 5 | G8: H | H8: 12
A9: 46252 | B9: 401 KGSRL 14 | C9: 6 | D9: M | E9: 7 | F9: 6 | G9: G | H9: 7 | I9: Verplaatsing 401 KGSRL 14 uit 6M naar 6G en hernummeren van alle byes.
A10: 46252 | B10: Bye 8 | C10: 6 | D10: G | E10: 7 | F10: 6 | G10: M | H10: 7
A11: 46252 | B11: 436 LSV-Chesspirant 10 | F11: 6 | G11: M | H11: 9 | I11: Toevoeging 436 LSV-Chesspirant 10 in 6M.
A12: 46252 | B12: Bye 20 | C12: 6 | D12: M | E12: 9
A13: 45888 | B13: 401 KGSRL 7 | C13: 4 | D13: D | E13: 3 | F13: 4 | G13: C | H13: 4 | I13: Omwisseling 401 KGSRL 7 uit 4D met 901 Namur Echecs 3 uit 4C.
A14: 45888 | B14: 901 Namur Echecs 3 | C14: 4 | D14: C | E14: 4 | F14: 4 | G14: D | H14: 3
A15: 46253 | B15: 128 Beveren 5 | C15: 6 | D15: M | E15: 5 | F15: 6 | G15: E | H15: 5 | I15: Omwisseling 128 Beveren 5 uit 6M met 422 MSV 5 uit 6E en hernummeren van ploegen van betrokken clubs.
A16: 46253 | B16: 422 MSV 5 | C16: 6 | D16: E | E16: 5 | F16: 6 | G16: M | H16: 5
A17: 46253 | B17: 313 Waregem 5 | F17: 6 | G17: G | H17: 8 | I17: Toevoeging 313 Waregem 5 in 6G en hernummeren van alle byes.
A18: 46253 | B18: Bye 8 | C18: 6 | D18: G | E18: 8
A19: 46253 | B19: 551 HCC Jurbise 2 | C19: 5 | D19: A | E19: 12 | F19: 6 | G19: F | H19: 1 | I19: 551 HCC Jurbise 2 mettre dans 6F et repêcher 548 Caissa Europe 7 en 5A (qui a été mis par accident en D6) et renuméroter les équipes des clubs concernés et les byes.
A20: 46253 | B20: 548 Caissa Europe 7 | C20: 6 | D20: I | E20: 10 | F20: 5 | G20: A | H20: 12
A21: 46253 | B21: Bye 6 | C21: 6 | D21: F | E21: 1 | F21: 6 | G21: I | H21: 10
A22: 46253 | B22: 601 CRELEL 11 | F22: 6 | G22: A | H22: 10 | I22: Ajout de 601 CRELEL 11 en 6A et renuméroter les byes.
A23: 46253 | B23: Bye 1 | C23: 6 | D23: A | E23: 10
A24: 46253 | B24: 618 Royal Echiquier Mosan 4 | C24: 6 | D24: J | E24: 8 | F24: 6 | G24: D | H24: 7 | I24: Echange de 618 Royal Echiquier Mosan 4 de 6J vers 6D et renuméroter les byes.
A25: 46253 | B25: Bye 3 | C25: 6 | D25: D | E25: 7 | F25: 6 | G25: J | H25: 8
A26: 46253 | B26: 401 KGSRL 11 | C26: 5 | D26: C | E26: 8 | F26: 5 | G26: I | H26: 5 | I26: Omwisseling 401 KGSRL 11 uit 5C met 301 301 KOSK 6 uit 5I.
A27: 46253 | B27: 301 KOSK 6 | C27: 5 | D27: I | E27: 5 | F27: 5 | G27: C | H27: 8
A28: 46254 | B28: 460 Oudenaarde 4 | C28: 6 | D28: G | E28: 10 | F28: 6 | G28: M | H28: 3 | I28: Omwisseling 460 Oudenaarde 4 uit 6G met Bye uit 6M en daarna met 401 KGSRL 16 uit 6M en hernummering van de byes.
A29: 46254 | B29: 401 KGSRL 16 | C29: 6 | D29: M | E29: 3 | F29: 6 | G29: M | H29: 7
A30: 46254 | B30: Bye 17 | C30: 6 | D30: M | E30: 7 | F30: 6 | G30: G | H30: 12
A31: 46254 | B31: 313 Waregem 5 | C31: 6 | D31: G | E31: 8 | F31: 6 | G31: K | H31: 9 | I31: Omwisseling 313 Waregem 5 uit 6G met Bye uit 6K en hernummeren van alle byes.
A32: 46254 | B32: Bye 17 | C32: 6 | D32: K | E32: 9 | F32: 6 | G32: G | H32: 8
A33: 46254 | B33: 471 SDP Wachtebeke 6 | F33: 6 | G33: L | H33: 6 | I33: Toevoeging 471 SDP Wachtebeke 6 in 6L en hernummeren van ploegen van betrokken clubs.
A34: 46254 | B34: Bye 17 | C34: 6 | D34: L | E34: 6
A35: 46254 | B35: 230 Leuven Centraal 17 | C35: 6 | D35: B | E35: 10 | F35: 6 | G35: F | H35: 10 | I35: Omwisseling 230 Leuven Centraal 17 uit 6B met Bye uit 6F.
A36: 46254 | B36: Bye 4 | C36: 6 | D36: F | E36: 10 | F36: 6 | G36: B | H36: 10
A37: 46255 | B37: 195 SKilled Chezzmates 3 | C37: 6 | D37: L | E37: 1 | F37: 6 | G37: E | H37: 10 | I37: Omwisseling 195 SKilled Chezzmates uit 6L met 443 Boey Temse 4.
A38: 46255 | B38: 443 Boey Temse 4 | C38: 6 | D38: E | E38: 10 | F38: 6 | G38: L | H38: 1
A39: 46256 | B39: 436 LSV-Chesspirant 10 | C39: 6 | D39: M | E39: 10 | F39: 6 | G39: F | H39: 10 | I39: Omwisseling 436 LSV-Chesspirant 10 uit 6M met Bye uit 6G en hernummeren van de ploegen van de betrokken club en van alle byes.
A40: 46256 | B40: Bye 6 | C40: 6 | D40: G | E40: 10 | F40: 6 | G40: B | H40: 10
A41: 46257 | B41: 547 Binche 1 | C41: 6 | D41: I | E41: 4 | F41: 6 | G41: I | H41: 7 | I41: Echange de 547 Binche 1 de 6I avec un des byes de 6I.
A42: 46257 | B42: Bye 7 | C42: 6 | D42: I | E42: 7 | F42: 6 | G42: I | H42: 4
A43: 46257 | B43: 541 Leuze-En-Hainaut 5 | C43: 6 | D43: I | E43: 3 | F43: 6 | G43: I | H43: 4 | I43: Echange de 541 Leuze-En-Hainaut 5 de 6I avec un des byes de 6I.
A44: 46257 | B44: Bye 6 | C44: 6 | D44: I | E44: 4 | F44: 6 | G44: I | H44: 3
A45: 46258 | B45: 548 Caissa Europe 7 | C45: 6 | D45: I | E45: 2 | F45: 6 | G45: I | H45: 3 | I45: Echange de 548 Caissa Europe 7 de 6I avec un des byes de 6I.
A46: 46258 | B46: Bye 6 | C46: 6 | D46: I | E46: 3 | F46: 6 | G46: I | H46: 2
A47: 46262 | B47: 231 Dolle Toren Leuven 4 | C47: 6 | D47: B | E47: 1 | F47: 6 | G47: I | H47: 2 | I47: 231 Dolle Toren Leuven 4 uit 6B met een Bye uit 6I en hernummeren van de ploegen van de betrokken club en van alle byes.
A48: 46262 | B48: Bye 6 | C48: 6 | D48: I | E48: 2 | F48: 6 | G48: B | H48: 1
A49: 46262 | B49: 231 Dolle Toren Leuven 5 | C49: 6 | D49: H | E49: 1 | F49: 6 | G49: L | H49: 2 | I49: Omwisseling 231 Dolle Toren Leuven 5 uit 6H met 182 Noorderwijk 1 uit 6L en met Bye uit 6C en hernummering van de betrokken ploegen en byes.
A50: 46262 | B50: 182 Noorderwijk 1 | C50: 6 | D50: L | E50: 2 | F50: 6 | G50: C | H50: 3
A51: 46262 | B51: Bye 3 | C51: 6 | D51: C | E51: 3 | F51: 6 | G51: H | H51: 1
A52: 46262 | B52: 202 Woluwe 1200 2 | F52: 6 | G52: H | H52: 1 | I52: Ajout de 202 Woluwe 1200 2 en 6H et renuméroter les byes.
A53: 46262 | B53: Bye 6 | C53: 6 | D53: H | E53: 1
A54: 46269 | B54: 547 Binche 1 | C54: 6 | D54: I | E54: 7 | F54: 6 | G54: I | H54: 6 | I54: Echange de 547 Binche 1 de 6I avec un des byes de 6I.
A55: 46269 | B55: Bye 6 | C55: 6 | D55: I | E55: 6 | F55: 6 | G55: I | H55: 7
A56: 46270 | B56: 230 Leuven Centraal 18 | F56: 6 | G56: B | H56: 10 | I56: Toevoeging 230 Leuven Centraal 18 in 6B en hernummeren van de betrokken club en van alle byes.
A57: 46270 | B57: Bye 2 | C57: 6 | D57: B | E57: 10
A58: 46272 | B58: 549 Saint-Ghislain 3 | C58: 6 | D58: I | E58: 5 | F58: 6 | G58: D | H58: 6 | I58: Echange de 549 Saint-Ghislain 3 de 6I avec 902 CES 4 de 6D.
A59: 46272 | B59: 902 CES 4 | C59: 6 | D59: D | E59: 6 | F59: 6 | G59: I | H59: 5

Sheet Paringen
D1: Ronde | E1: Date | F1: Domicile/Extérieur | G1: Adversaire
B2: Division 1 Afdeling | D2: Ronde | E2: Datum | F2: Thuis/Uit | G2: Tegenstander | I2: Wedstrijd
A3: 1 | D3: 1 | E3: 46292 | F3: =VLOOKUP($D3*100+$B$18,Paringstabel!$N$1:$P$133,2,FALSE) -> Domicile/Thuis | G3: =VLOOKUP(VLOOKUP($D3*100+$B$18,Paringstabel!$N$1:$P$133,3,FALSE),$A$3:$B$14,2,FALSE) -> 0 | I3: =IF($F3="Domicile/Thuis",CONCATENATE(VLOOKUP($B$18,$A$3:$B$14,2,FALSE)," - ",$G3),CONCATENATE($G3," - ",VLOOKUP($B$18,$A$3:$B$14,2,FALSE))) -> - 0
A4: 2 | D4: 2 | E4: 46306 | F4: =VLOOKUP($D4*100+$B$18,Paringstabel!$N$1:$P$133,2,FALSE) -> Domicile/Thuis | G4: =VLOOKUP(VLOOKUP($D4*100+$B$18,Paringstabel!$N$1:$P$133,3,FALSE),$A$3:$B$14,2,FALSE) -> 0 | I4: =IF($F4="Domicile/Thuis",CONCATENATE(VLOOKUP($B$18,$A$3:$B$14,2,FALSE)," - ",$G4),CONCATENATE($G4," - ",VLOOKUP($B$18,$A$3:$B$14,2,FALSE))) -> - 0
A5: 3 | D5: 3 | E5: 46341 | F5: =VLOOKUP($D5*100+$B$18,Paringstabel!$N$1:$P$133,2,FALSE) -> Extérieur/Uit | G5: =VLOOKUP(VLOOKUP($D5*100+$B$18,Paringstabel!$N$1:$P$133,3,FALSE),$A$3:$B$14,2,FALSE) -> 0 | I5: =IF($F5="Domicile/Thuis",CONCATENATE(VLOOKUP($B$18,$A$3:$B$14,2,FALSE)," - ",$G5),CONCATENATE($G5," - ",VLOOKUP($B$18,$A$3:$B$14,2,FALSE))) -> 0 -
A6: 4 | D6: 4 | E6: 46355 | F6: =VLOOKUP($D6*100+$B$18,Paringstabel!$N$1:$P$133,2,FALSE) -> Domicile/Thuis | G6: =VLOOKUP(VLOOKUP($D6*100+$B$18,Paringstabel!$N$1:$P$133,3,FALSE),$A$3:$B$14,2,FALSE) -> 0 | I6: =IF($F6="Domicile/Thuis",CONCATENATE(VLOOKUP($B$18,$A$3:$B$14,2,FALSE)," - ",$G6),CONCATENATE($G6," - ",VLOOKUP($B$18,$A$3:$B$14,2,FALSE))) -> - 0
A7: 5 | D7: 5 | E7: 46376 | F7: =VLOOKUP($D7*100+$B$18,Paringstabel!$N$1:$P$133,2,FALSE) -> Extérieur/Uit | G7: =VLOOKUP(VLOOKUP($D7*100+$B$18,Paringstabel!$N$1:$P$133,3,FALSE),$A$3:$B$14,2,FALSE) -> 0 | I7: =IF($F7="Domicile/Thuis",CONCATENATE(VLOOKUP($B$18,$A$3:$B$14,2,FALSE)," - ",$G7),CONCATENATE($G7," - ",VLOOKUP($B$18,$A$3:$B$14,2,FALSE))) -> 0 -
A8: 6 | D8: 6 | E8: 46418 | F8: =VLOOKUP($D8*100+$B$18,Paringstabel!$N$1:$P$133,2,FALSE) -> Domicile/Thuis | G8: =VLOOKUP(VLOOKUP($D8*100+$B$18,Paringstabel!$N$1:$P$133,3,FALSE),$A$3:$B$14,2,FALSE) -> 0 | I8: =IF($F8="Domicile/Thuis",CONCATENATE(VLOOKUP($B$18,$A$3:$B$14,2,FALSE)," - ",$G8),CONCATENATE($G8," - ",VLOOKUP($B$18,$A$3:$B$14,2,FALSE))) -> - 0
A9: 7 | D9: 7 | E9: 46432 | F9: =VLOOKUP($D9*100+$B$18,Paringstabel!$N$1:$P$133,2,FALSE) -> Extérieur/Uit | G9: =VLOOKUP(VLOOKUP($D9*100+$B$18,Paringstabel!$N$1:$P$133,3,FALSE),$A$3:$B$14,2,FALSE) -> 0 | I9: =IF($F9="Domicile/Thuis",CONCATENATE(VLOOKUP($B$18,$A$3:$B$14,2,FALSE)," - ",$G9),CONCATENATE($G9," - ",VLOOKUP($B$18,$A$3:$B$14,2,FALSE))) -> 0 -
A10: 8 | D10: 8 | E10: 46453 | F10: =VLOOKUP($D10*100+$B$18,Paringstabel!$N$1:$P$133,2,FALSE) -> Domicile/Thuis | G10: =VLOOKUP(VLOOKUP($D10*100+$B$18,Paringstabel!$N$1:$P$133,3,FALSE),$A$3:$B$14,2,FALSE) -> 0 | I10: =IF($F10="Domicile/Thuis",CONCATENATE(VLOOKUP($B$18,$A$3:$B$14,2,FALSE)," - ",$G10),CONCATENATE($G10," - ",VLOOKUP($B$18,$A$3:$B$14,2,FALSE))) -> - 0
A11: 9 | D11: 9 | E11: 46467 | F11: =VLOOKUP($D11*100+$B$18,Paringstabel!$N$1:$P$133,2,FALSE) -> Extérieur/Uit | G11: =VLOOKUP(VLOOKUP($D11*100+$B$18,Paringstabel!$N$1:$P$133,3,FALSE),$A$3:$B$14,2,FALSE) -> 0 | I11: =IF($F11="Domicile/Thuis",CONCATENATE(VLOOKUP($B$18,$A$3:$B$14,2,FALSE)," - ",$G11),CONCATENATE($G11," - ",VLOOKUP($B$18,$A$3:$B$14,2,FALSE))) -> 0 -
A12: 10 | D12: 10 | E12: 46488 | F12: =VLOOKUP($D12*100+$B$18,Paringstabel!$N$1:$P$133,2,FALSE) -> Domicile/Thuis | G12: =VLOOKUP(VLOOKUP($D12*100+$B$18,Paringstabel!$N$1:$P$133,3,FALSE),$A$3:$B$14,2,FALSE) -> 0 | I12: =IF($F12="Domicile/Thuis",CONCATENATE(VLOOKUP($B$18,$A$3:$B$14,2,FALSE)," - ",$G12),CONCATENATE($G12," - ",VLOOKUP($B$18,$A$3:$B$14,2,FALSE))) -> - 0
A13: 11 | D13: 11 | E13: 46495 | F13: =VLOOKUP($D13*100+$B$18,Paringstabel!$N$1:$P$133,2,FALSE) -> Extérieur/Uit | G13: =VLOOKUP(VLOOKUP($D13*100+$B$18,Paringstabel!$N$1:$P$133,3,FALSE),$A$3:$B$14,2,FALSE) -> 0 | I13: =IF($F13="Domicile/Thuis",CONCATENATE(VLOOKUP($B$18,$A$3:$B$14,2,FALSE)," - ",$G13),CONCATENATE($G13," - ",VLOOKUP($B$18,$A$3:$B$14,2,FALSE))) -> 0 -
A14: 12
B16: Numéro d'appariement
B17: Paringsnr.
B18: 1
A20: Pour savoir où et quand votre équipe joue contre quel adversaire, faites ce qui suit :
A21: 1. Copiez la division/série de votre choix de l'onglet "Indeling" et collez sa valeur (collage spécial) dans la cellule A2 de l'onglet "Paringen".
A22: 2. Mettez dans la cellule B18 le numéro d'appariement de votre équipe.
A23: 3. Vous verrez maintenant le calendrier de votre équipe dans l'onglet "Paringen" à partir de la cellule D1.
A25: Om te weten wanneer jouw ploeg waar tegen welke tegenstander speelt, doe dan als volgt:
A26: 1. Kopieer de afdeling/reeks van jouw keuze uit tabblad "Indeling" en plak deze speciaal (waarde) in cel A2 van tabblad "Paringen".
A27: 2. Vul in cel B18 het paringsnummer van jouw ploeg in.
A28: 3. Nu zie je in tabblad "Paringen" vanaf cel D1 de kalender van jouw ploeg.
D32: Ronde | E32: Date | F32: Domicile/Extérieur | G32: Adversaire | I32: Rencontre
B33: Division 6 Afdeling | D33: Ronde | E33: Datum | F33: Thuis/Uit | G33: Tegenstander | I33: Wedstrijd
A34: 1 | D34: 1 | E34: 46292 | F34: =VLOOKUP($D34*100+$B$47,Paringstabel!$T$1:$V$91,2,FALSE) -> Domicile/Thuis | G34: =VLOOKUP(VLOOKUP($D34*100+$B$47,Paringstabel!$T$1:$VO$91,3,FALSE),$A$34:$B$43,2,FALSE) -> 0 | I34: =IF($F34="Domicile/Thuis",CONCATENATE(VLOOKUP($B$47,$A$34:$B$43,2,FALSE)," - ",$G34),CONCATENATE($G34," - ",VLOOKUP($B$47,$A$34:$B$43,2,FALSE))) -> - 0
A35: 2 | D35: 2 | E35: 46306 | F35: =VLOOKUP($D35*100+$B$47,Paringstabel!$T$1:$V$91,2,FALSE) -> Domicile/Thuis | G35: =VLOOKUP(VLOOKUP($D35*100+$B$47,Paringstabel!$T$1:$VO$91,3,FALSE),$A$34:$B$43,2,FALSE) -> 0 | I35: =IF($F35="Domicile/Thuis",CONCATENATE(VLOOKUP($B$47,$A$34:$B$43,2,FALSE)," - ",$G35),CONCATENATE($G35," - ",VLOOKUP($B$47,$A$34:$B$43,2,FALSE))) -> - 0
A36: 3 | D36: 3 | E36: 46341 | F36: =VLOOKUP($D36*100+$B$47,Paringstabel!$T$1:$V$91,2,FALSE) -> Extérieur/Uit | G36: =VLOOKUP(VLOOKUP($D36*100+$B$47,Paringstabel!$T$1:$VO$91,3,FALSE),$A$34:$B$43,2,FALSE) -> 0 | I36: =IF($F36="Domicile/Thuis",CONCATENATE(VLOOKUP($B$47,$A$34:$B$43,2,FALSE)," - ",$G36),CONCATENATE($G36," - ",VLOOKUP($B$47,$A$34:$B$43,2,FALSE))) -> 0 -
A37: 4 | D37: 4 | E37: 46355 | F37: =VLOOKUP($D37*100+$B$47,Paringstabel!$T$1:$V$91,2,FALSE) -> Domicile/Thuis | G37: =VLOOKUP(VLOOKUP($D37*100+$B$47,Paringstabel!$T$1:$VO$91,3,FALSE),$A$34:$B$43,2,FALSE) -> 0 | I37: =IF($F37="Domicile/Thuis",CONCATENATE(VLOOKUP($B$47,$A$34:$B$43,2,FALSE)," - ",$G37),CONCATENATE($G37," - ",VLOOKUP($B$47,$A$34:$B$43,2,FALSE))) -> - 0
A38: 5 | D38: 5 | E38: 46432 | F38: =VLOOKUP($D38*100+$B$47,Paringstabel!$T$1:$V$91,2,FALSE) -> Extérieur/Uit | G38: =VLOOKUP(VLOOKUP($D38*100+$B$47,Paringstabel!$T$1:$VO$91,3,FALSE),$A$34:$B$43,2,FALSE) -> 0 | I38: =IF($F38="Domicile/Thuis",CONCATENATE(VLOOKUP($B$47,$A$34:$B$43,2,FALSE)," - ",$G38),CONCATENATE($G38," - ",VLOOKUP($B$47,$A$34:$B$43,2,FALSE))) -> 0 -
A39: 6 | D39: 6 | E39: 46453 | F39: =VLOOKUP($D39*100+$B$47,Paringstabel!$T$1:$V$91,2,FALSE) -> Domicile/Thuis | G39: =VLOOKUP(VLOOKUP($D39*100+$B$47,Paringstabel!$T$1:$VO$91,3,FALSE),$A$34:$B$43,2,FALSE) -> 0 | I39: =IF($F39="Domicile/Thuis",CONCATENATE(VLOOKUP($B$47,$A$34:$B$43,2,FALSE)," - ",$G39),CONCATENATE($G39," - ",VLOOKUP($B$47,$A$34:$B$43,2,FALSE))) -> - 0
A40: 7 | D40: 7 | E40: 46467 | F40: =VLOOKUP($D40*100+$B$47,Paringstabel!$T$1:$V$91,2,FALSE) -> Extérieur/Uit | G40: =VLOOKUP(VLOOKUP($D40*100+$B$47,Paringstabel!$T$1:$VO$91,3,FALSE),$A$34:$B$43,2,FALSE) -> 0 | I40: =IF($F40="Domicile/Thuis",CONCATENATE(VLOOKUP($B$47,$A$34:$B$43,2,FALSE)," - ",$G40),CONCATENATE($G40," - ",VLOOKUP($B$47,$A$34:$B$43,2,FALSE))) -> 0 -
A41: 8 | D41: 8 | E41: 46488 | F41: =VLOOKUP($D41*100+$B$47,Paringstabel!$T$1:$V$91,2,FALSE) -> Domicile/Thuis | G41: =VLOOKUP(VLOOKUP($D41*100+$B$47,Paringstabel!$T$1:$VO$91,3,FALSE),$A$34:$B$43,2,FALSE) -> 0 | I41: =IF($F41="Domicile/Thuis",CONCATENATE(VLOOKUP($B$47,$A$34:$B$43,2,FALSE)," - ",$G41),CONCATENATE($G41," - ",VLOOKUP($B$47,$A$34:$B$43,2,FALSE))) -> - 0
A42: 9 | D42: 9 | E42: 46495 | F42: =VLOOKUP($D42*100+$B$47,Paringstabel!$T$1:$V$91,2,FALSE) -> Extérieur/Uit | G42: =VLOOKUP(VLOOKUP($D42*100+$B$47,Paringstabel!$T$1:$VO$91,3,FALSE),$A$34:$B$43,2,FALSE) -> 0 | I42: =IF($F42="Domicile/Thuis",CONCATENATE(VLOOKUP($B$47,$A$34:$B$43,2,FALSE)," - ",$G42),CONCATENATE($G42," - ",VLOOKUP($B$47,$A$34:$B$43,2,FALSE))) -> 0 -
A43: 10
B45: Numéro d'appariement
B46: Paringsnr.
B47: 1

Sheet Paringstabel
A1: Calendrier | L1: Ronde | M1: Paringsnr. | N1: Key | O1: Thuis/Uit | P1: Paringsnr. Tegenstander | R1: Ronde | S1: Paringsnr. | T1: Key | U1: Thuis/Uit | V1: Paringsnr. Tegenstander | X1: Calendrier
A2: Kalender | L2: 1 | M2: 1 | N2: 101 | O2: Domicile/Thuis | P2: 12 | R2: 1 | S2: 1 | T2: =R2*100+S2 -> 101 | U2: Domicile/Thuis | V2: 10 | X2: Kalender
L3: 1 | M3: 2 | N3: 102 | O3: Domicile/Thuis | P3: 11 | R3: 1 | S3: 2 | T3: =R3*100+S3 -> 102 | U3: Domicile/Thuis | V3: 9
A4: Ronde | B4: 1 | C4: 46292 | E4: 1-12 | F4: 2-11 | G4: 3-10 | H4: 4-9 | I4: 5-8 | J4: 6-7 | L4: 1 | M4: 3 | N4: 103 | O4: Domicile/Thuis | P4: 10 | R4: 1 | S4: 3 | T4: =R4*100+S4 -> 103 | U4: Domicile/Thuis | V4: 8 | X4: Ronde | Y4: 1 | Z4: 46292 | AB4: 1-10 | AC4: 2-9 | AD4: 3-8 | AE4: 4-7 | AF4: 5-6
A5: Ronde | B5: 2 | C5: 46306 | E5: 12-7 | F5: 8-6 | G5: 9-5 | H5: 10-4 | I5: 11-3 | J5: 1-2 | L5: 1 | M5: 4 | N5: 104 | O5: Domicile/Thuis | P5: 9 | R5: 1 | S5: 4 | T5: =R5*100+S5 -> 104 | U5: Domicile/Thuis | V5: 7 | X5: Ronde | Y5: 2 | Z5: 46306 | AB5: 10-6 | AC5: 7-5 | AD5: 8-4 | AE5: 9-3 | AF5: 1-2
A6: Ronde | B6: 3 | C6: 46341 | E6: 2-12 | F6: 3-1 | G6: 4-11 | H6: 5-10 | I6: 6-9 | J6: 7-8 | L6: 1 | M6: 5 | N6: 105 | O6: Domicile/Thuis | P6: 8 | R6: 1 | S6: 5 | T6: =R6*100+S6 -> 105 | U6: Domicile/Thuis | V6: 6 | X6: Ronde | Y6: 3 | Z6: 46341 | AB6: 2-10 | AC6: 3-1 | AD6: 4-9 | AE6: 5-8 | AF6: 6-7
A7: Ronde | B7: 4 | C7: 46355 | E7: 12-8 | F7: 9-7 | G7: 10-6 | H7: 11-5 | I7: 1-4 | J7: 2-3 | L7: 1 | M7: 6 | N7: 106 | O7: Domicile/Thuis | P7: 7 | R7: 1 | S7: 6 | T7: =R7*100+S7 -> 106 | U7: Extérieur/Uit | V7: 5 | X7: Ronde | Y7: 4 | Z7: 46355 | AB7: 10-7 | AC7: 8-6 | AD7: 9-5 | AE7: 1-4 | AF7: 2-3
A8: Ronde | B8: 5 | C8: 46376 | E8: 3-12 | F8: 4-2 | G8: 5-1 | H8: 6-11 | I8: 7-10 | J8: 8-9 | L8: 1 | M8: 7 | N8: 107 | O8: Extérieur/Uit | P8: 6 | R8: 1 | S8: 7 | T8: =R8*100+S8 -> 107 | U8: Extérieur/Uit | V8: 4 | X8: Ronde | Y8: 5 | Z8: 46432 | AB8: 3-10 | AC8: 4-2 | AD8: 5-1 | AE8: 6-9 | AF8: 7-8
A9: Ronde | B9: 6 | C9: 46418 | E9: 12-9 | F9: 10-8 | G9: 11-7 | H9: 1-6 | I9: 2-5 | J9: 3-4 | L9: 1 | M9: 8 | N9: 108 | O9: Extérieur/Uit | P9: 5 | R9: 1 | S9: 8 | T9: =R9*100+S9 -> 108 | U9: Extérieur/Uit | V9: 3 | X9: Ronde | Y9: 6 | Z9: 46453 | AB9: 10-8 | AC9: 9-7 | AD9: 1-6 | AE9: 2-5 | AF9: 3-4
A10: Ronde | B10: 7 | C10: 46432 | E10: 4-12 | F10: 5-3 | G10: 6-2 | H10: 7-1 | I10: 8-11 | J10: 9-10 | L10: 1 | M10: 9 | N10: 109 | O10: Extérieur/Uit | P10: 4 | R10: 1 | S10: 9 | T10: =R10*100+S10 -> 109 | U10: Extérieur/Uit | V10: 2 | X10: Ronde | Y10: 7 | Z10: 46467 | AB10: 4-10 | AC10: 5-3 | AD10: 6-2 | AE10: 7-1 | AF10: 8-9
A11: Ronde | B11: 8 | C11: 46453 | E11: 12-10 | F11: 11-9 | G11: 1-8 | H11: 2-7 | I11: 3-6 | J11: 4-5 | L11: 1 | M11: 10 | N11: 110 | O11: Extérieur/Uit | P11: 3 | R11: 1 | S11: 10 | T11: =R11*100+S11 -> 110 | U11: Extérieur/Uit | V11: 1 | X11: Ronde | Y11: 8 | Z11: 46488 | AB11: 10-9 | AC11: 1-8 | AD11: 2-7 | AE11: 3-6 | AF11: 4-5
A12: Ronde | B12: 9 | C12: 46467 | E12: 5-12 | F12: 6-4 | G12: 7-3 | H12: 8-2 | I12: 9-1 | J12: 10-11 | L12: 1 | M12: 11 | N12: 111 | O12: Extérieur/Uit | P12: 2 | R12: 2 | S12: 1 | T12: =R12*100+S12 -> 201 | U12: Domicile/Thuis | V12: 2 | X12: Ronde | Y12: 9 | Z12: 46495 | AB12: 5-10 | AC12: 6-4 | AD12: 7-3 | AE12: 8-2 | AF12: 9-1
A13: Ronde | B13: 10 | C13: 46488 | E13: 12-11 | F13: 1-10 | G13: 2-9 | H13: 3-8 | I13: 4-7 | J13: 5-6 | L13: 1 | M13: 12 | N13: 112 | O13: Extérieur/Uit | P13: 1 | R13: 2 | S13: 2 | T13: =R13*100+S13 -> 202 | U13: Extérieur/Uit | V13: 1
A14: Ronde | B14: 11 | C14: 46495 | E14: 6-12 | F14: 7-5 | G14: 8-4 | H14: 9-3 | I14: 10-2 | J14: 11-1 | L14: 2 | M14: 1 | N14: 201 | O14: Domicile/Thuis | P14: 2 | R14: 2 | S14: 3 | T14: =R14*100+S14 -> 203 | U14: Extérieur/Uit | V14: 9 | X14: Dates de réserve / Reservedata
L15: 2 | M15: 2 | N15: 202 | O15: Extérieur/Uit | P15: 1 | R15: 2 | S15: 4 | T15: =R15*100+S15 -> 204 | U15: Extérieur/Uit | V15: 8 | Y15: 1 | Z15: 46362
A16: Dates de réserve / Reservedata | L16: 2 | M16: 3 | N16: 203 | O16: Extérieur/Uit | P16: 11 | R16: 2 | S16: 5 | T16: =R16*100+S16 -> 205 | U16: Extérieur/Uit | V16: 7 | Y16: 2 | Z16: 46460
B17: 1 | C17: 46362 | L17: 2 | M17: 4 | N17: 204 | O17: Extérieur/Uit | P17: 10 | R17: 2 | S17: 6 | T17: =R17*100+S17 -> 206 | U17: Extérieur/Uit | V17: 10
B18: 2 | C18: 46460 | L18: 2 | M18: 5 | N18: 205 | O18: Extérieur/Uit | P18: 9 | R18: 2 | S18: 7 | T18: =R18*100+S18 -> 207 | U18: Domicile/Thuis | V18: 5 | X18: Date de barrage / Datum voor testwedstrijden
L19: 2 | M19: 6 | N19: 206 | O19: Extérieur/Uit | P19: 8 | R19: 2 | S19: 8 | T19: =R19*100+S19 -> 208 | U19: Domicile/Thuis | V19: 4 | Z19: 46502
A20: Date de barrage / Datum voor testwedstrijden | L20: 2 | M20: 7 | N20: 207 | O20: Extérieur/Uit | P20: 12 | R20: 2 | S20: 9 | T20: =R20*100+S20 -> 209 | U20: Domicile/Thuis | V20: 3
C21: 46502 | L21: 2 | M21: 8 | N21: 208 | O21: Domicile/Thuis | P21: 6 | R21: 2 | S21: 10 | T21: =R21*100+S21 -> 210 | U21: Domicile/Thuis | V21: 6 | X21: Date limite rencontres à avancer / Uiterste datum vooraf te spelen matchen
L22: 2 | M22: 9 | N22: 209 | O22: Domicile/Thuis | P22: 5 | R22: 3 | S22: 1 | T22: =R22*100+S22 -> 301 | U22: Extérieur/Uit | V22: 3 | Z22: < 27/09/2026
A23: Date limite rencontres à avancer / Uiterste datum vooraf te spelen matchen | L23: 2 | M23: 10 | N23: 210 | O23: Domicile/Thuis | P23: 4 | R23: 3 | S23: 2 | T23: =R23*100+S23 -> 302 | U23: Domicile/Thuis | V23: 10
C24: < 27/09/2026 | L24: 2 | M24: 11 | N24: 211 | O24: Domicile/Thuis | P24: 3 | R24: 3 | S24: 3 | T24: =R24*100+S24 -> 303 | U24: Domicile/Thuis | V24: 1 | X24: Modalités de monter et descendre
L25: 2 | M25: 12 | N25: 212 | O25: Domicile/Thuis | P25: 7 | R25: 3 | S25: 4 | T25: =R25*100+S25 -> 304 | U25: Domicile/Thuis | V25: 9 | X25: Modaliteiten van stijgen en dalen
A26: Modalités de monter et descendre | L26: 3 | M26: 1 | N26: 301 | O26: Extérieur/Uit | P26: 3 | R26: 3 | S26: 5 | T26: =R26*100+S26 -> 305 | U26: Domicile/Thuis | V26: 8
A27: Modaliteiten van stijgen en dalen | L27: 3 | M27: 2 | N27: 302 | O27: Domicile/Thuis | P27: 12 | R27: 3 | S27: 6 | T27: =R27*100+S27 -> 306 | U27: Domicile/Thuis | V27: 7 | X27: 6ième division | AA27: Le champion monte.
L28: 3 | M28: 3 | N28: 303 | O28: Domicile/Thuis | P28: 1 | R28: 3 | S28: 7 | T28: =R28*100+S28 -> 307 | U28: Extérieur/Uit | V28: 6 | AA28: Les 7 meilleurs deuxièmes montent.
A29: 1ière division | D29: Le 11ième et le 12ième descendent. | L29: 3 | M29: 4 | N29: 304 | O29: Domicile/Thuis | P29: 11 | R29: 3 | S29: 8 | T29: =R29*100+S29 -> 308 | U29: Extérieur/Uit | V29: 5
A30: 2ième - 3ième division | D30: Le champion monte. | L30: 3 | M30: 5 | N30: 305 | O30: Domicile/Thuis | P30: 10 | R30: 3 | S30: 9 | T30: =R30*100+S30 -> 309 | U30: Extérieur/Uit | V30: 4 | X30: 6de afdeling | AA30: De kampioen promoveert.
D31: Le 11ième et le 12ième descendent. | L31: 3 | M31: 6 | N31: 306 | O31: Domicile/Thuis | P31: 9 | R31: 3 | S31: 10 | T31: =R31*100+S31 -> 310 | U31: Extérieur/Uit | V31: 2 | AA31: De 7 beste tweedes stijgen.
A32: 4ième division | D32: Le champion monte. | L32: 3 | M32: 7 | N32: 307 | O32: Domicile/Thuis | P32: 8 | R32: 4 | S32: 1 | T32: =R32*100+S32 -> 401 | U32: Domicile/Thuis | V32: 4
D33: Le 11ième et le 12ième descendent. | L33: 3 | M33: 8 | N33: 308 | O33: Extérieur/Uit | P33: 7 | R33: 4 | S33: 2 | T33: =R33*100+S33 -> 402 | U33: Domicile/Thuis | V33: 3
A34: 5ième division | D34: Le champion monte. | L34: 3 | M34: 9 | N34: 309 | O34: Extérieur/Uit | P34: 6 | R34: 4 | S34: 3 | T34: =R34*100+S34 -> 403 | U34: Extérieur/Uit | V34: 2
D35: Les 6 meilleurs deuxièmes montent | L35: 3 | M35: 10 | N35: 310 | O35: Extérieur/Uit | P35: 5 | R35: 4 | S35: 4 | T35: =R35*100+S35 -> 404 | U35: Extérieur/Uit | V35: 1
D36: Le 11ième et le 12ième descendent. | L36: 3 | M36: 11 | N36: 311 | O36: Extérieur/Uit | P36: 4 | R36: 4 | S36: 5 | T36: =R36*100+S36 -> 405 | U36: Extérieur/Uit | V36: 9
L37: 3 | M37: 12 | N37: 312 | O37: Extérieur/Uit | P37: 2 | R37: 4 | S37: 6 | T37: =R37*100+S37 -> 406 | U37: Extérieur/Uit | V37: 8
A38: 1ste afdeling | D38: De 11de en de 12de dalen. | L38: 4 | M38: 1 | N38: 401 | O38: Domicile/Thuis | P38: 4 | R38: 4 | S38: 7 | T38: =R38*100+S38 -> 407 | U38: Extérieur/Uit | V38: 10
A39: 2de - 3de afdeling | D39: De kampioen promoveert. | L39: 4 | M39: 2 | N39: 402 | O39: Domicile/Thuis | P39: 3 | R39: 4 | S39: 8 | T39: =R39*100+S39 -> 408 | U39: Domicile/Thuis | V39: 6
D40: De 11de en de 12de dalen. | L40: 4 | M40: 3 | N40: 403 | O40: Extérieur/Uit | P40: 2 | R40: 4 | S40: 9 | T40: =R40*100+S40 -> 409 | U40: Domicile/Thuis | V40: 5
A41: 4de afdeling | D41: De kampioen promoveert. | L41: 4 | M41: 4 | N41: 404 | O41: Extérieur/Uit | P41: 1 | R41: 4 | S41: 10 | T41: =R41*100+S41 -> 410 | U41: Domicile/Thuis | V41: 7
D42: De 11de en de 12de dalen. | L42: 4 | M42: 5 | N42: 405 | O42: Extérieur/Uit | P42: 11 | R42: 5 | S42: 1 | T42: =R42*100+S42 -> 501 | U42: Extérieur/Uit | V42: 5
A43: 5de afdeling | D43: De kampioen promoveert. | L43: 4 | M43: 6 | N43: 406 | O43: Extérieur/Uit | P43: 10 | R43: 5 | S43: 2 | T43: =R43*100+S43 -> 502 | U43: Extérieur/Uit | V43: 4
D44: De 6 beste tweedes promoveren. | L44: 4 | M44: 7 | N44: 407 | O44: Extérieur/Uit | P44: 9 | R44: 5 | S44: 3 | T44: =R44*100+S44 -> 503 | U44: Domicile/Thuis | V44: 10
D45: De 11de en de 12de dalen. | L45: 4 | M45: 8 | N45: 408 | O45: Extérieur/Uit | P45: 12 | R45: 5 | S45: 4 | T45: =R45*100+S45 -> 504 | U45: Domicile/Thuis | V45: 2
L46: 4 | M46: 9 | N46: 409 | O46: Domicile/Thuis | P46: 7 | R46: 5 | S46: 5 | T46: =R46*100+S46 -> 505 | U46: Domicile/Thuis | V46: 1
L47: 4 | M47: 10 | N47: 410 | O47: Domicile/Thuis | P47: 6 | R47: 5 | S47: 6 | T47: =R47*100+S47 -> 506 | U47: Domicile/Thuis | V47: 9
L48: 4 | M48: 11 | N48: 411 | O48: Domicile/Thuis | P48: 5 | R48: 5 | S48: 7 | T48: =R48*100+S48 -> 507 | U48: Domicile/Thuis | V48: 8
L49: 4 | M49: 12 | N49: 412 | O49: Domicile/Thuis | P49: 8 | R49: 5 | S49: 8 | T49: =R49*100+S49 -> 508 | U49: Extérieur/Uit | V49: 7
L50: 5 | M50: 1 | N50: 501 | O50: Extérieur/Uit | P50: 5 | R50: 5 | S50: 9 | T50: =R50*100+S50 -> 509 | U50: Extérieur/Uit | V50: 6
L51: 5 | M51: 2 | N51: 502 | O51: Extérieur/Uit | P51: 4 | R51: 5 | S51: 10 | T51: =R51*100+S51 -> 510 | U51: Extérieur/Uit | V51: 3
L52: 5 | M52: 3 | N52: 503 | O52: Domicile/Thuis | P52: 12 | R52: 6 | S52: 1 | T52: =R52*100+S52 -> 601 | U52: Domicile/Thuis | V52: 6
L53: 5 | M53: 4 | N53: 504 | O53: Domicile/Thuis | P53: 2 | R53: 6 | S53: 2 | T53: =R53*100+S53 -> 602 | U53: Domicile/Thuis | V53: 5
L54: 5 | M54: 5 | N54: 505 | O54: Domicile/Thuis | P54: 1 | R54: 6 | S54: 3 | T54: =R54*100+S54 -> 603 | U54: Domicile/Thuis | V54: 4
L55: 5 | M55: 6 | N55: 506 | O55: Domicile/Thuis | P55: 11 | R55: 6 | S55: 4 | T55: =R55*100+S55 -> 604 | U55: Extérieur/Uit | V55: 3
L56: 5 | M56: 7 | N56: 507 | O56: Domicile/Thuis | P56: 10 | R56: 6 | S56: 5 | T56: =R56*100+S56 -> 605 | U56: Extérieur/Uit | V56: 2
L57: 5 | M57: 8 | N57: 508 | O57: Domicile/Thuis | P57: 9 | R57: 6 | S57: 6 | T57: =R57*100+S57 -> 606 | U57: Extérieur/Uit | V57: 1
... L91: 8 | M91: 6 | N91: 806 | O91: Extérieur/Uit | P91: 3 | R91: 9 | S91: 10 | T91: =R91*100+S91 -> 910 | U91: Extérieur/Uit | V91: 5
L92: 8 | M92: 7 | N92: 807 | O92: Extérieur/Uit | P92: 2
L93: 8 | M93: 8 | N93: 808 | O93: Extérieur/Uit | P93: 1
L94: 8 | M94: 9 | N94: 809 | O94: Extérieur/Uit | P94: 11
L95: 8 | M95: 10 | N95: 810 | O95: Extérieur/Uit | P95: 12
L96: 8 | M96: 11 | N96: 811 | O96: Domicile/Thuis | P96: 9
L97: 8 | M97: 12 | N97: 812 | O97: Domicile/Thuis | P97: 10
L98: 9 | M98: 1 | N98: 901 | O98: Extérieur/Uit | P98: 9
L99: 9 | M99: 2 | N99: 902 | O99: Extérieur/Uit | P99: 8
L100: 9 | M100: 3 | N100: 903 | O100: Extérieur/Uit | P100: 7
L101: 9 | M101: 4 | N101: 904 | O101: Extérieur/Uit | P101: 6
L102: 9 | M102: 5 | N102: 905 | O102: Domicile/Thuis | P102: 12
L103: 9 | M103: 6 | N103: 906 | O103: Domicile/Thuis | P103: 4
... L133: 11 | M133: 12 | N133: 1112 | O133: Extérieur/Uit | P133: 6

Sheet Mogen_niet_promoveren
A1: Liste des équipes non autorisées à promouvoir en raison de leur relégation ou retrait volontaire (art. 32.j)
A2: Lijst van ploegen die niet mogen promoveren vanwege hun vrijwillige degradatie of terugtrekking (art. 32.j)
A4: Division/série | B4: Nom d'équipe | C4: Première saison | D4: Deuxième saison
A5: Afdeling/reeks | B5: Ploegnaam | C5: Eerste seizoen | D5: Tweede seizoen
A7: 4A | B7: 621 Standard de Liège 2 | C7: 2026 - 2027 | D7: 2027 - 2028
A8: 4A | B8: 627 SF Wirtzfeld 1 | C8: 2026 - 2027 | D8: 2027 - 2028
A9: 4B | B9: 432 Wetteren 3 | C9: 2026 - 2027 | D9: 2027 - 2028
A10: 5B | B10: 303 KBSK Brugge 5 | C10: 2026 - 2027 | D10: 2027 - 2028
A12: FR
A13: Si dans ces séries une de ces équipes est championne, alors elle ne peut pas monter vers la division supérieure.
A14: Sa place dans la division supérieure sera occupée par un des meilleurs deuxièmes de sa division (art. 32.h).
A15: Si ces équipes terminent à une place leur donnant droit à un prix en argent, ce prix en argent sera retenu.
A17: Cette règle de promotion (art. 32.h) s'appliquera également au cas où une équipe de la D2 est championne alors que
A18: son cercle a déjà une équipe en première division et qu'il ne peut donc pas faire monter l'équipe championne (art. 32.i).
A20: NL
A21: Indien in deze reeksen één van deze ploegen kampioen wordt, mag deze niet promoveren naar een hogere afdeling.
A22: Haar plaats in de hogere afdeling wordt dan ingenomen op basis van de beste tweedes uit haar afdeling (art. 32.h).
A23: Indien deze ploegen op een plaats eindigen die recht geven op een geldprijs, dan wordt deze geldprijs ingehouden.
A25: Deze promotieregel (art. 32.h) geldt ook wanneer een ploeg kampioen wordt in tweede afdeling en er reeds een ploeg
A26: van dezelfde club in eerste afdeling speelt, waardoor de club de kampioen dus niet mag laten stijgen (art. 32.i).

Sheet Vooruit te spelen wedstrijden
A1: # | B1: Division/Série | C1: Date | D1: Ronde | E1: Equipe visitée | F1: Equipe visiteur | G1: Va être jouée sur
A2: # | B2: Afdeling/Reeks | C2: Datum | D2: Ronde | E2: Thuisploeg | F2: Uitploeg | G2: Zal gespeeld worden op
A3: 1 | B3: 3C | C3: 46306 | D3: 2 | E3: 548 Caissa Europe 2 | F3: 548 Caissa Europe 1 | G3: 46306
A4: 2 | B4: 4C | C4: 46495 | D4: 11 | E4: 401 KGSRL 6 | F4: 401 KGSRL 7 | G4: 46285
A5: 3 | B5: 4D | C5: 46418 | D5: 6 | E5: 901 Namur Echecs 3 | F5: 901 Namur Echecs 4
A6: 4 | B6: 5C | C6: 46488 | D6: 10 | E6: 301 KOSK 5 | F6: 301 KOSK 6
A7: 5 | B7: 5I | C7: 46418 | D7: 6 | E7: 401 KGSRL 12 | F7: 401 KGSRL 11 | G7: 46285
A8: 6 | B8: 6B | C8: 46341 | D8: 3 | E8: 230 Leuven Centraal 14 | F8: 230 Leuven Centraal 16 | G8: 46341
A9: 7 | B9: 6B | C9: 46355 | D9: 4 | E9: 230 Leuven Centraal 17 | F9: 230 Leuven Centraal 15 | G9: 46355
A10: 8 | B10: 6B | C10: 46453 | D10: 6 | E10: 230 Leuven Centraal 16 | F10: 230 Leuven Centraal 15 | G10: 46299
A11: 9 | B11: 6B | C11: 46467 | D11: 7 | E11: 230 Leuven Centraal 14 | F11: 230 Leuven Centraal 17 | G11: 46299
A12: 10 | B12: 6B | C12: 46488 | D12: 8 | E12: 230 Leuven Centraal 17 | F12: 230 Leuven Centraal 16 | G12: 46320
A13: 11 | B13: 6C | C13: 46467 | D13: 7 | E13: 162 Mol 2 | F13: 162 Mol 3 | G13: 46285
A14: 12 | B14: 6D | C14: 46453 | D14: 6 | E14: 901 Namur Echecs 7 | F14: 901 Namur Echecs 8
A15: 13 | B15: 6E | C15: 46495 | D15: 9 | E15: 128 Beveren 5 | F15: 128 Beveren 4 | G15: 46285
A16: 14 | B16: 6G | C16: 46495 | D16: 9 | E16: 401 KGSRL 14 | F16: 401 KGSRL 13 | G16: 46313
A17: 15 | B17: 6H | C17: 46495 | D17: 9 | E17: 204 Excelsior 2 | F17: 204 Excelsior 3
A18: 16 | B18: 6I | C18: 46467 | D18: 7 | E18: 514 MCC 4 | F18: 514 MCC 5
A19: 17 | B19: 6K | C19: 46306 | D19: 2 | E19: 364 Meense Leie Schakers 4 | F19: 364 Meense Leie Schakers 2 | G19: 46306
A20: 18 | B20: 6K | C20: 46341 | D20: 3 | E20: 364 Meense Leie Schakers 3 | F20: 364 Meense Leie Schakers 4 | G20: 46341
A21: 19 | B21: 6L | C21: 46488 | D21: 8 | E21: 128 Beveren 6 | F21: 128 Beveren 7 | G21: 46285
A22: 20 | B22: 6M | C22: 46306 | D22: 2 | E22: 436 LSV-Chesspirant 10 | F22: 436 LSV-Chesspirant 9 | G22: 46306
A23: 21 | B23: 6M | C23: 46432 | D23: 5 | E23: 401 KGSRL 16 | F23: 401 KGSRL 15 | G23: 46313

Sheet 6J
B1: Division 6J Afdeling | D1: Ronde | E1: 1 | F1: 46292 | G1: 1-10 | H1: 2-9 | I1: 3-8 | J1: 4-7 | K1: 5-6
A2: 1 | B2: Bye 10 | D2: Ronde | E2: 2 | F2: 46306 | G2: 10-6 | H2: 7-5 | I2: 8-4 | J2: 9-3 | K2: 1-2
A3: 2 | B3: 609 Anthisnes 3 | D3: Ronde | E3: 3 | F3: 46341 | G3: 2-10 | H3: 3-1 | I3: 4-9 | J3: 5-8 | K3: 6-7
A4: 3 | B4: 811 Arlon Echecs 3 | D4: Ronde | E4: 4 | F4: 46355 | G4: 10-7 | H4: 8-6 | I4: 9-5 | J4: 1-4 | K4: 2-3
A5: 4 | B5: 811 Arlon Echecs 2 | D5: Ronde | E5: 5 | F5: 46432 | G5: 3-10 | H5: 4-2 | I5: 5-1 | J5: 6-9 | K5: 7-8
A6: 5 | B6: Bye 11 | D6: Ronde | E6: 6 | F6: 46453 | G6: 10-8 | H6: 9-7 | I6: 1-6 | J6: 2-5 | K6: 3-4
A7: 6 | B7: Bye 12 | D7: Ronde | E7: 7 | F7: 46467 | G7: 4-10 | H7: 5-3 | I7: 6-2 | J7: 7-1 | K7: 8-9
A8: 7 | B8: 814 Gaume Etalle 2 | D8: Ronde | E8: 8 | F8: 46488 | G8: 10-9 | H8: 1-8 | I8: 2-7 | J8: 3-6 | K8: 4-5
A9: 8 | B9: Bye 13 | D9: Ronde | E9: 9 | F9: 46495 | G9: 5-10 | H9: 6-4 | I9: 7-3 | J9: 8-2 | K9: 9-1
A10: 9 | B10: Bye 14
A11: 10 | B11: Bye 15
A13: R1 | B13: 46292
A14: 1 | B14: 814 Gaume Etalle 2 - 609 Anthisnes 3 | G14: 7-2
A15: 2 | B15: 811 Arlon Echecs 2 - 811 Arlon Echecs 3 | G15: 4-3
A17: R2 | B17: 46306
A18: 1 | B18: 811 Arlon Echecs 3 - 811 Arlon Echecs 2 | G18: 3-4
A20: R3 | B20: 46341
A21: 1 | B21: 811 Arlon Echecs 3 - 609 Anthisnes 3 | G21: 3-2
A22: 2 | B22: 811 Arlon Echecs 2 - 814 Gaume Etalle 2 | G22: 4-7
A24: R4 | B24: 46355
A25: 1 | B25: 609 Anthisnes 3 - 811 Arlon Echecs 3 | G25: 2-3
A27: R5 | B27: 46432
A28: 1 | B28: 814 Gaume Etalle 2 - 811 Arlon Echecs 2 | G28: 7-4
A30: R6 | B30: 46453
A31: 1 | B31: 811 Arlon Echecs 3 - 814 Gaume Etalle 2 | G31: 3-7
A32: 2 | B32: 811 Arlon Echecs 2 - 609 Anthisnes 3 | G32: 4-2
A34: R7 | B34: 46467
A35: 1 | B35: 814 Gaume Etalle 2 - 811 Arlon Echecs 3 | G35: 7-3
A36: 2 | B36: 609 Anthisnes 3 - 811 Arlon Echecs 2 | G36: 2-4
A38: R8 | B38: 46488
A39: 1 | B39: 609 Anthisnes 3 - 814 Gaume Etalle 2 | G39: 2-7
A41: R9 | B41: 46495
