Workbook

Sheet Certificaat
A1: Application for IA Classification Upgrade | L1: IA3
A3: =CONCATENATE("The ",Invulformulier!$B$1," federation herewith applies for the upgrade of International Arbiter Classification for:") -> The BEL federation herewith applies for the upgrade of International Arbiter Classification for:
A5: Last Name | G5: First Name
A6: =IF(ISBLANK(Invulformulier!$B$2),"",Invulformulier!$B$2) | G6: =IF(ISBLANK(Invulformulier!$B$3),"",Invulformulier!$B$3)
A7: FIDE ID Number | G7: Federation
A8: =IF(ISBLANK(Invulformulier!$B$4),"",Invulformulier!$B$4) | G8: =IF(ISBLANK(Invulformulier!$B$5),"",Invulformulier!$B$5) -> BEL
A10: Upgrade (from current to targeted category)
B11: =IF(Invulformulier!$B$6="","",IF(Invulformulier!$B$6="D","X","")) | C11: D to C | E11: =IF(Invulformulier!$B$6="","",IF(Invulformulier!$B$6="C","X","")) | F11: C to B | H11: =IF(Invulformulier!$B$6="","",IF(Invulformulier!$B$6="B","X","")) | I11: B to A
A12: Date of award of the current category
D13: =IF(ISBLANK(Invulformulier!$B$8),"",Invulformulier!$B$8)
A14: This application contains
B15: =IF(Invulformulier!$B$9<>"",Invulformulier!$B$9,"") | C15: 2 tournaments of the targeted level
B16: =IF(Invulformulier!$B$10<>"",Invulformulier!$B$10,"") | C16: 1 tournament of the targeted level + 3 of the current level
A18: The candidate has worked as Chief or Deputy Chief Arbiter in the following competitions with positive evaluation:
A20: Events of the targeted level
A21: 1. | B21: Event:
A22: =IF(ISBLANK(Invulformulier!$B$11),"",Invulformulier!$B$11)
A23: Tournament link * (or FRS event code):
A24: =IF(ISBLANK(Invulformulier!$B$12),"",Invulformulier!$B$12)
A25: Targeted category | H25: Role
B26: =IF(Invulformulier!$B$7="","",IF(Invulformulier!$B$7="A","X","")) | C26: A | D26: =IF(Invulformulier!$B$7="","",IF(Invulformulier!$B$7="B","X","")) | E26: B | F26: =IF(Invulformulier!$B$7="","",IF(Invulformulier!$B$7="C","X","")) | G26: C | I26: =IF(Invulformulier!$B$13="","",IF(Invulformulier!$B$13="Chief","X","")) | J26: Chief | K26: =IF(Invulformulier!$B$13="","",IF(Invulformulier!$B$13="Deputy","X","")) | L26: Deputy
A28: 2. | B28: Event:
A29: =IF(ISBLANK(Invulformulier!$B$14),"",Invulformulier!$B$14)
A30: Tournament link * (or FRS event code):
A31: =IF(ISBLANK(Invulformulier!$B$15),"",Invulformulier!$B$15)
A32: Targeted category | H32: Role
B33: =IF(Invulformulier!$B$7="","",IF(Invulformulier!$B$7="A","X","")) | C33: A | D33: =IF(Invulformulier!$B$7="","",IF(Invulformulier!$B$7="B","X","")) | E33: B | F33: =IF(Invulformulier!$B$7="","",IF(Invulformulier!$B$7="C","X","")) | G33: C | I33: =IF(Invulformulier!$B$16="","",IF(Invulformulier!$B$16="Chief","X","")) | J33: Chief | K33: =IF(Invulformulier!$B$16="","",IF(Invulformulier!$B$16="Deputy","X","")) | L33: Deputy
A35: Events of the current level
A36: 1. | B36: Event:
A37: =IF(ISBLANK(Invulformulier!$B$17),"",Invulformulier!$B$17)
A38: Tournament link * (or FRS event code):
A39: =IF(ISBLANK(Invulformulier!$B$18),"",Invulformulier!$B$18)
A40: Targeted category | H40: Role
B41: =IF(Invulformulier!$B$6="","",IF(Invulformulier!$B$6="A","X","")) | C41: A | D41: =IF(Invulformulier!$B$6="","",IF(Invulformulier!$B$6="B","X","")) | E41: B | F41: =IF(Invulformulier!$B$6="","",IF(Invulformulier!$B$6="C","X","")) | G41: C | I41: =IF(Invulformulier!$B$19="","",IF(Invulformulier!$B$19="Chief","X","")) | J41: Chief | K41: =IF(Invulformulier!$B$19="","",IF(Invulformulier!$B$19="Deputy","X","")) | L41: Deputy
A43: 2. | B43: Event:
A44: =IF(ISBLANK(Invulformulier!$B$20),"",Invulformulier!$B$20)
A45: Tournament link * (or FRS event code):
A46: =IF(ISBLANK(Invulformulier!$B$21),"",Invulformulier!$B$21)
A47: Targeted category | H47: Role
B48: =IF(Invulformulier!$B$6="","",IF(Invulformulier!$B$6="A","X","")) | C48: A | D48: =IF(Invulformulier!$B$6="","",IF(Invulformulier!$B$6="B","X","")) | E48: B | F48: =IF(Invulformulier!$B$6="","",IF(Invulformulier!$B$6="C","X","")) | G48: C | I48: =IF(Invulformulier!$B$22="","",IF(Invulformulier!$B$22="Chief","X","")) | J48: Chief | K48: =IF(Invulformulier!$B$22="","",IF(Invulformulier!$B$22="Deputy","X","")) | L48: Deputy
A50: 3. | B50: Event:
A51: =IF(ISBLANK(Invulformulier!$B$23),"",Invulformulier!$B$23)
A52: Tournament link * (or FRS event code):
A53: =IF(ISBLANK(Invulformulier!$B$24),"",Invulformulier!$B$24)
A54: Targeted category | H54: Role
B55: =IF(Invulformulier!$B$6="","",IF(Invulformulier!$B$6="A","X","")) | C55: A | D55: =IF(Invulformulier!$B$6="","",IF(Invulformulier!$B$6="B","X","")) | E55: B | F55: =IF(Invulformulier!$B$6="","",IF(Invulformulier!$B$6="C","X","")) | G55: C | I55: =IF(Invulformulier!$B$25="","",IF(Invulformulier!$B$25="Chief","X","")) | J55: Chief | K55: =IF(Invulformulier!$B$25="","",IF(Invulformulier!$B$25="Deputy","X","")) | L55: Deputy
A57: This application must be submitted to the Arbiters' Commission by the federation of the applicant.
A59: Name of Federation Official | H59: Date
A60: =(IF(ISBLANK(Invulformulier!$B$26),"",Invulformulier!$B$26)) -> IA/IO Luc CORNET (205494) | H60: =IF(ISBLANK(Invulformulier!$B$27),"",Invulformulier!$B$27)
A61: Signature
A64: PRIVACY NOTICE: this form contains personal data, please check FIDE Privacy policy at www.fide.com/privacy.
A65: * When an event is split into several tournaments, please specify the scope of responsibility for the applicant (this may also be done by giving the full list of links
A66: from the FIDE Rating Server - FRS).

Sheet Invulformulier
A1: Which federation | B1: BEL | F1: Current Level | G1: Targeted Level | H1: Role
A2: Arbiter's last name | F2: B | G2: A | H2: Chief
A3: First name | F3: C | G3: B | H3: Deputy
A4: Code | F4: D | G4: C
A5: Federation | B5: BEL
A6: Current Category
A7: Targeted Category
A8: Date of award of current category
A9: 2 of targeted level
A10: 1 of targeted + 3 of current level
A11: Targeted - Name of FRS Event 1
A12: Targeted - Code of FRS Event 1
A13: Targeted - Role of FRS Event 1
A14: Targeted - Name of FRS Event 2
A15: Targeted - Code of FRS Event 2
A16: Targeted - Role of FRS Event 2
A17: Current - Name of FRS Event 1
... A25: Current - Role of FRS Event 3
A26: Name of federation official | B26: IA/IO Luc CORNET (205494)
A27: Date
