Workbook

Sheet IT2
A1: TITLE APPLICATION | H1: =IF(ISBLANK(Invulformulier1!$B$2),"",Invulformulier1!$B$2) -> IM | J1: IT2
A3: The following federation | D3: =IF(ISBLANK(Invulformulier1!$B$1),"",Invulformulier1!$B$1) | E3: hereby applies for the title of: | G3: =VLOOKUP(Invulformulier1!$B$2,Invulformulier1!$A$16:$B$20,2,FALSE) -> International Master (minimum level 2400)
A4: To be awarded to:
A6: last name | G6: first name
A7: =IF(ISBLANK(Invulformulier1!$B$3),"",Invulformulier1!$B$3) | G7: =IF(ISBLANK(Invulformulier1!$B$4),"",Invulformulier1!$B$4)
A8: FIDE ID Number | G8: federation
A9: =IF(ISBLANK(Invulformulier1!$B$5),"",Invulformulier1!$B$5) | G9: =IF(ISBLANK(Invulformulier1!$B$1),"",Invulformulier1!$B$1)
A10: date necessary rating gained | F10: level of highest rating
A11: =IF(ISBLANK(Invulformulier1!$B$8),"",Invulformulier1!$B$8) | F11: =IF(ISBLANK(Invulformulier1!$B$9),"",Invulformulier1!$B$9)
A13: Titles can be awarded conditional on reaching the required rating at a later date
A14: (see Title Regulations 1.50c for the procedure to be followed in this case).
A15: Herewith certificates (IT1s) and cross-tables for the following norms:
A17: 1 | B17: name of event | G17: event code | H17: federation | I17: location
B18: =IF(ISBLANK(Invulformulier2!$B$2),"",Invulformulier2!$B$2) | G18: =IF(ISBLANK(Invulformulier2!$C$2),"",Invulformulier2!$C$2) | H18: =IF(ISBLANK(Invulformulier2!$D$2),"",Invulformulier2!$D$2) | I18: =IF(ISBLANK(Invulformulier2!$E$2),"",Invulformulier2!$E$2)
B19: starting date | E19: end date | H19: tournament system
B20: =IF(ISBLANK(Invulformulier2!$F$2),"",Invulformulier2!$F$2) | E20: =IF(ISBLANK(Invulformulier2!$G$2),"",Invulformulier2!$G$2) | H20: =IF(ISBLANK(Invulformulier2!$H$2),"",Invulformulier2!$H$2)
B21: average rating of opponents | E21: total number of games played | H21: number of games to be counted (if not ALL)
B22: =IF(ISBLANK(Invulformulier2!$I$2),"",Invulformulier2!$I$2) | E22: =IF(ISBLANK(Invulformulier2!$J$2),"",Invulformulier2!$J$2) | H22: =IF(ISBLANK(Invulformulier2!$M$2),"",Invulformulier2!$M$2)
B23: points required | D23: points scored | F23: (after dropping games) points required | I23: points scored
B24: =IF(ISBLANK(Invulformulier2!$K$2),"",Invulformulier2!$K$2) | D24: =IF(ISBLANK(Invulformulier2!$L$2),"",Invulformulier2!$L$2) | F24: =IF(ISBLANK(Invulformulier2!$O$2),"",Invulformulier2!$O$2) | I24: =IF(ISBLANK(Invulformulier2!$P$2),"",Invulformulier2!$P$2)
B25: number from host federation | F25: number not from own federation
B26: =IF(ISBLANK(Invulformulier2!$Q$2),"",Invulformulier2!$Q$2) | F26: =IF(ISBLANK(Invulformulier2!$R$2),"",Invulformulier2!$R$2)
B27: total number of opponents
B28: titled | C28: GMs | D28: IMs | E28: FMs | F28: WGMs | G28: WIMs | H28: WFMs | I28: rated | J28: unrated
B29: =IF(ISBLANK(Invulformulier2!$S$2),"",Invulformulier2!$S$2) | C29: =IF(ISBLANK(Invulformulier2!$T$2),"",Invulformulier2!$T$2) | D29: =IF(ISBLANK(Invulformulier2!$U$2),"",Invulformulier2!$U$2) | E29: =IF(ISBLANK(Invulformulier2!$V$2),"",Invulformulier2!$V$2) | F29: =IF(ISBLANK(Invulformulier2!$W$2),"",Invulformulier2!$W$2) | G29: =IF(ISBLANK(Invulformulier2!$X$2),"",Invulformulier2!$X$2) | H29: =IF(ISBLANK(Invulformulier2!$Y$2),"",Invulformulier2!$Y$2) | I29: =IF(ISBLANK(Invulformulier2!$Z$2),"",Invulformulier2!$Z$2) | J29: =IF(ISBLANK(Invulformulier2!$AA$2),"",Invulformulier2!$AA$2)
A31: 2 | B31: name of event | G31: event code | H31: federation | I31: location
B32: =IF(ISBLANK(Invulformulier2!$B$3),"",Invulformulier2!$B$3) | G32: =IF(ISBLANK(Invulformulier2!$C$3),"",Invulformulier2!$C$3) | H32: =IF(ISBLANK(Invulformulier2!$D$3),"",Invulformulier2!$D$3) | I32: =IF(ISBLANK(Invulformulier2!$E$3),"",Invulformulier2!$E$3)
B33: starting date | E33: end date | H33: tournament system
B34: =IF(ISBLANK(Invulformulier2!$F$3),"",Invulformulier2!$F$3) | E34: =IF(ISBLANK(Invulformulier2!$G$3),"",Invulformulier2!$G$3) | H34: =IF(ISBLANK(Invulformulier2!$H$3),"",Invulformulier2!$H$3)
B35: average rating of opponents | E35: total number of games played | H35: number of games to be counted (if not ALL)
B36: =IF(ISBLANK(Invulformulier2!$I$3),"",Invulformulier2!$I$3) | E36: =IF(ISBLANK(Invulformulier2!$J$3),"",Invulformulier2!$J$3) | H36: =IF(ISBLANK(Invulformulier2!$M$3),"",Invulformulier2!$M$3)
B37: points required | D37: points scored | F37: (after dropping games) points required | I37: points scored
B38: =IF(ISBLANK(Invulformulier2!$K$3),"",Invulformulier2!$K$3) | D38: =IF(ISBLANK(Invulformulier2!$L$3),"",Invulformulier2!$L$3) | F38: =IF(ISBLANK(Invulformulier2!$O$3),"",Invulformulier2!$O$3) | I38: =IF(ISBLANK(Invulformulier2!$P$3),"",Invulformulier2!$P$3)
B39: number from host federation | F39: number not from own federation
B40: =IF(ISBLANK(Invulformulier2!$Q$3),"",Invulformulier2!$Q$3) | F40: =IF(ISBLANK(Invulformulier2!$R$3),"",Invulformulier2!$R$3)
B41: total number of opponents
B42: titled | C42: GMs | D42: IMs | E42: FMs | F42: WGMs | G42: WIMs | H42: WFMs | I42: rated | J42: unrated
B43: =IF(ISBLANK(Invulformulier2!$S$3),"",Invulformulier2!$S$3) | C43: =IF(ISBLANK(Invulformulier2!$T$3),"",Invulformulier2!$T$3) | D43: =IF(ISBLANK(Invulformulier2!$U$3),"",Invulformulier2!$U$3) | E43: =IF(ISBLANK(Invulformulier2!$V$3),"",Invulformulier2!$V$3) | F43: =IF(ISBLANK(Invulformulier2!$W$3),"",Invulformulier2!$W$3) | G43: =IF(ISBLANK(Invulformulier2!$X$3),"",Invulformulier2!$X$3) | H43: =IF(ISBLANK(Invulformulier2!$Y$3),"",Invulformulier2!$Y$3) | I43: =IF(ISBLANK(Invulformulier2!$Z$3),"",Invulformulier2!$Z$3) | J43: =IF(ISBLANK(Invulformulier2!$AA$3),"",Invulformulier2!$AA$3)
A45: 3 | B45: name of event | G45: event code | H45: federation | I45: location
B46: =IF(ISBLANK(Invulformulier2!$B$4),"",Invulformulier2!$B$4) | G46: =IF(ISBLANK(Invulformulier2!$C$4),"",Invulformulier2!$C$4) | H46: =IF(ISBLANK(Invulformulier2!$D$4),"",Invulformulier2!$D$4) | I46: =IF(ISBLANK(Invulformulier2!$E$4),"",Invulformulier2!$E$4)
...

Sheet Invulformulier1
A1: Federation
A2: Application Title | B2: IM
A3: Family Name
A4: First Name
A5: FIDE ID
A6: Date of Birth
A7: Place of Birth
A8: Date Necessary Rating Gained
A9: Level of Highest Rating
A10: Total Number of Games
A11: Remark
A12: Name of Federation Official
A13: Date
A16: Title | B16: Applying description
A17: GM | B17: Grandmaster (minimum level 2500)
A18: IM | B18: International Master (minimum level 2400)
A19: WGM | B19: Woman Grandmaster (minimum level 2300)
A20: WIM | B20: Woman International Master (minimum level 2200)

Sheet Invulformulier2
A1: Number | B1: Name of Event | C1: Event Code | D1: Federation | E1: Location | F1: Starting Date | G1: Ending Date | H1: Tournament System | I1: Average Rating of Opponents | J1: Total Number of Games Played | K1: Points required | L1: Points scored | M1: Number of Games to be Counted | N1: Number of Games to be Counted 2 | O1: Points Required after dropping Games | P1: Points Scored after dropping Games | Q1: Number from Host Federation | R1: Number not from own Federation | S1: Total number of Titled Opponents | T1: Total number of GMs | U1: Total number of IMs | V1: Total number of FMs | W1: Total number of WGMs | X1: Total number of WIMs | Y1: Total number of WFMs | Z1: Total number of Rated | AA1: Total number of Unrated
A2: 1
A3: 2
A4: 3
A5: 4
